BEGIN:VCALENDAR
VERSION:2.0
PRODID:-//Tukios.com/
BEGIN:VEVENT
UID:51b252f3-1762-4e2f-bc56-f79cc7ec92ce@www.leefuneralhomes.com
DTSTAMP:20260423T231117Z
DTSTART:20260502T190000Z
DTEND:20260502T193000Z
SUMMARY:Memorial Service
DESCRIPTION:
URL:https://www.leefuneralhomes.com/obituaries/barbara-suite-webster
LOCATION:Lee Funeral Home Calvert 8200 Jennifer Lane  Owings MD 20736
GEO:38.6921371;-76.6389256
END:VEVENT
END:VCALENDAR