BEGIN:VCALENDAR
VERSION:2.0
PRODID:-//Tukios.com/
BEGIN:VEVENT
UID:915fd0d6-1b56-481b-adf5-765503bb8745@www.leefuneralhomes.com
DTSTAMP:20260423T231349Z
DTSTART:20260502T173000Z
DTEND:20260502T190000Z
SUMMARY:Memorial Gathering
DESCRIPTION:
URL:https://www.leefuneralhomes.com/obituaries/barbara-suite-webster
LOCATION:Lee Funeral Home Calvert 8200 Jennifer Lane  Owings MD 20736
GEO:38.6921371;-76.6389256
END:VEVENT
END:VCALENDAR