BEGIN:VCALENDAR
VERSION:2.0
PRODID:-//Tukios.com/
BEGIN:VEVENT
UID:6db72e05-53cc-499a-840a-e35e475a36cb@www.leefuneralhomes.com
DTSTAMP:20260420T223006Z
DTSTART:20260427T163000Z
DTEND:20260427T170000Z
SUMMARY:Graveside Service
DESCRIPTION:
URL:https://www.leefuneralhomes.com/obituaries/marvin-smith
LOCATION:Resurrection Cemetery  8000 Woodyard Road  Clinton MD 20735
GEO:38.7773803;-76.8454288
END:VEVENT
END:VCALENDAR