BEGIN:VCALENDAR
VERSION:2.0
PRODID:-//Tukios.com/
BEGIN:VEVENT
UID:02b9a419-1569-423e-a372-ecd934ff746b@www.leefuneralhomes.com
DTSTAMP:20260420T223000Z
DTSTART:20260427T140000Z
DTEND:20260427T150000Z
SUMMARY:Public Viewing
DESCRIPTION:
URL:https://www.leefuneralhomes.com/obituaries/marvin-smith
LOCATION: 6633 Old Alexandria Ferry Road  Clinton MD 20735
GEO:38.7829168;-76.8933874
END:VEVENT
END:VCALENDAR