BEGIN:VCALENDAR
VERSION:2.0
PRODID:-//Tukios.com/
BEGIN:VEVENT
UID:2c7a48e5-e8fe-4ddc-8614-5337d6819a99@www.leefuneralhomes.com
DTSTAMP:20260420T223624Z
DTSTART:20260426T180000Z
DTEND:20260426T210000Z
SUMMARY:Public Visitation
DESCRIPTION:
URL:https://www.leefuneralhomes.com/obituaries/marvin-smith
LOCATION: 6633 Old Alexandria Ferry Road  Clinton MD 20735
GEO:38.7829168;-76.8933874
END:VEVENT
END:VCALENDAR