BEGIN:VCALENDAR
VERSION:2.0
PRODID:-//Tukios.com/
BEGIN:VEVENT
UID:3fa931ed-72b3-4368-be76-37a2a1621016@www.leefuneralhomes.com
DTSTAMP:20260420T223435Z
DTSTART:20260426T193000Z
DTEND:20260426T200000Z
SUMMARY:Fire Department Memorial Service
DESCRIPTION:
URL:https://www.leefuneralhomes.com/obituaries/marvin-smith
LOCATION: 6633 Old Alexandria Ferry Road  Clinton MD 20735
GEO:38.7829168;-76.8933874
END:VEVENT
END:VCALENDAR