BEGIN:VCALENDAR
VERSION:2.0
PRODID:-//Tukios.com/
BEGIN:VEVENT
UID:1c3cc279-50ab-4ca9-bdca-de99879bf7ec@www.leefuneralhomes.com
DTSTAMP:20260422T232201Z
DTSTART:20260423T170000Z
DTEND:20260423T180000Z
SUMMARY:Funeral Service
DESCRIPTION:
URL:https://www.leefuneralhomes.com/obituaries/mary-white
LOCATION: 6633 Old Alexandria Ferry Road  Clinton MD 20735
GEO:38.7829168;-76.8933874
END:VEVENT
END:VCALENDAR