BEGIN:VCALENDAR
VERSION:2.0
PRODID:-//Tukios.com/
BEGIN:VEVENT
UID:581834fc-ae24-43e1-8623-2ab8687e41dc@www.leefuneralhomes.com
DTSTAMP:20260422T232408Z
DTSTART:20260423T160000Z
DTEND:20260423T170000Z
SUMMARY:Public Visitation
DESCRIPTION:
URL:https://www.leefuneralhomes.com/obituaries/mary-white
LOCATION: 6633 Old Alexandria Ferry Road  Clinton MD 20735
GEO:38.7829168;-76.8933874
END:VEVENT
END:VCALENDAR