BEGIN:VCALENDAR
VERSION:2.0
PRODID:-//Tukios.com/
BEGIN:VEVENT
UID:37f43cef-85e7-485e-b26e-797e92b937e2@www.leefuneralhomes.com
DTSTAMP:20260420T180820Z
DTSTART:20260425T140000Z
DTEND:20260425T160000Z
SUMMARY:Visitation
DESCRIPTION:
URL:https://www.leefuneralhomes.com/obituaries/richard-hickey
LOCATION:Lee Funeral Home Calvert 8200 Jennifer Ln  Owings MD 20736
GEO:38.692157;-76.6388796
END:VEVENT
END:VCALENDAR