BEGIN:VCALENDAR
VERSION:2.0
PRODID:-//Tukios.com/
BEGIN:VEVENT
UID:734a4d02-ee5b-4dbd-9062-6617faed669d@www.leefuneralhomes.com
DTSTAMP:20260420T181604Z
DTSTART:20260425T160000Z
DTEND:20260425T170000Z
SUMMARY:Funeral Service
DESCRIPTION:
URL:https://www.leefuneralhomes.com/obituaries/richard-hickey
LOCATION:Lee Funeral Home Calvert 8200 Jennifer Ln  Owings MD 20736
GEO:38.692157;-76.6388796
END:VEVENT
END:VCALENDAR