BEGIN:VCALENDAR
VERSION:2.0
PRODID:-//Tukios.com/
BEGIN:VEVENT
UID:81d456b2-89e5-4985-b234-d6d25bcdff7e@www.leefuneralhomes.com
DTSTAMP:20260420T181616Z
DTSTART:20260425T171500Z
DTEND:20260425T174500Z
SUMMARY:Burial
DESCRIPTION:
URL:https://www.leefuneralhomes.com/obituaries/richard-hickey
LOCATION: 10155 Ward Rd  Dunkirk MD 20754
GEO:38.719383;-76.6541419
END:VEVENT
END:VCALENDAR